BEGIN:VCALENDAR
VERSION:2.0
PRODID:-//Trinity Episcopal Church, Towson - ECPv6.15.20//NONSGML v1.0//EN
CALSCALE:GREGORIAN
METHOD:PUBLISH
X-WR-CALNAME:Trinity Episcopal Church, Towson
X-ORIGINAL-URL:https://trinitychurchtowson.org
X-WR-CALDESC:Events for Trinity Episcopal Church, Towson
REFRESH-INTERVAL;VALUE=DURATION:PT1H
X-Robots-Tag:noindex
X-PUBLISHED-TTL:PT1H
BEGIN:VTIMEZONE
TZID:America/New_York
BEGIN:DAYLIGHT
TZOFFSETFROM:-0500
TZOFFSETTO:-0400
TZNAME:EDT
DTSTART:20240310T070000
END:DAYLIGHT
BEGIN:STANDARD
TZOFFSETFROM:-0400
TZOFFSETTO:-0500
TZNAME:EST
DTSTART:20241103T060000
END:STANDARD
BEGIN:DAYLIGHT
TZOFFSETFROM:-0500
TZOFFSETTO:-0400
TZNAME:EDT
DTSTART:20250309T070000
END:DAYLIGHT
BEGIN:STANDARD
TZOFFSETFROM:-0400
TZOFFSETTO:-0500
TZNAME:EST
DTSTART:20251102T060000
END:STANDARD
BEGIN:DAYLIGHT
TZOFFSETFROM:-0500
TZOFFSETTO:-0400
TZNAME:EDT
DTSTART:20260308T070000
END:DAYLIGHT
BEGIN:STANDARD
TZOFFSETFROM:-0400
TZOFFSETTO:-0500
TZNAME:EST
DTSTART:20261101T060000
END:STANDARD
BEGIN:DAYLIGHT
TZOFFSETFROM:-0500
TZOFFSETTO:-0400
TZNAME:EDT
DTSTART:20270314T070000
END:DAYLIGHT
BEGIN:STANDARD
TZOFFSETFROM:-0400
TZOFFSETTO:-0500
TZNAME:EST
DTSTART:20271107T060000
END:STANDARD
END:VTIMEZONE
BEGIN:VEVENT
DTSTART;TZID=America/New_York:20251228T080000
DTEND;TZID=America/New_York:20251228T080000
DTSTAMP:20260425T220107
CREATED:20250527T001138Z
LAST-MODIFIED:20260108T171006Z
UID:10000035-1766908800-1766908800@trinitychurchtowson.org
SUMMARY:Holy Eucharist
DESCRIPTION:
URL:https://trinitychurchtowson.org/event/holy-eucharist/2025-12-28/
LOCATION:Trinity Episcopal Church\, 120 Allegheny Ave\, Towson\, MD\, 21204\, United States
CATEGORIES:featured
ATTACH;FMTTYPE=image/jpeg:https://trinitychurchtowson.org/wp-content/uploads/sites/61/2025/05/489159228_9656277787753351_2720397352512224019_n_transform.jpg
END:VEVENT
BEGIN:VEVENT
DTSTART;TZID=America/New_York:20251228T101500
DTEND;TZID=America/New_York:20251228T101500
DTSTAMP:20260425T220107
CREATED:20250527T001320Z
LAST-MODIFIED:20251204T200209Z
UID:10000143-1766916900-1766916900@trinitychurchtowson.org
SUMMARY:Holy Eucharist Rite II
DESCRIPTION:
URL:https://trinitychurchtowson.org/event/holy-eucharist-rite-ii/2025-12-28/
LOCATION:Trinity Episcopal Church\, 120 Allegheny Ave\, Towson\, MD\, 21204\, United States
CATEGORIES:featured
ATTACH;FMTTYPE=image/jpeg:https://trinitychurchtowson.org/wp-content/uploads/sites/61/2025/05/488658637_9654525797928550_5685141721219111312_n_horizontal.jpg
END:VEVENT
BEGIN:VEVENT
DTSTART;TZID=America/New_York:20260104T080000
DTEND;TZID=America/New_York:20260104T080000
DTSTAMP:20260425T220107
CREATED:20250527T001138Z
LAST-MODIFIED:20260108T171006Z
UID:10000036-1767513600-1767513600@trinitychurchtowson.org
SUMMARY:Holy Eucharist
DESCRIPTION:
URL:https://trinitychurchtowson.org/event/holy-eucharist/2026-01-04/
LOCATION:Trinity Episcopal Church\, 120 Allegheny Ave\, Towson\, MD\, 21204\, United States
CATEGORIES:featured
ATTACH;FMTTYPE=image/jpeg:https://trinitychurchtowson.org/wp-content/uploads/sites/61/2025/05/489159228_9656277787753351_2720397352512224019_n_transform.jpg
END:VEVENT
BEGIN:VEVENT
DTSTART;TZID=America/New_York:20260104T101500
DTEND;TZID=America/New_York:20260104T101500
DTSTAMP:20260425T220107
CREATED:20250527T001320Z
LAST-MODIFIED:20251204T200209Z
UID:10000144-1767521700-1767521700@trinitychurchtowson.org
SUMMARY:Holy Eucharist Rite II
DESCRIPTION:
URL:https://trinitychurchtowson.org/event/holy-eucharist-rite-ii/2026-01-04/
LOCATION:Trinity Episcopal Church\, 120 Allegheny Ave\, Towson\, MD\, 21204\, United States
CATEGORIES:featured
ATTACH;FMTTYPE=image/jpeg:https://trinitychurchtowson.org/wp-content/uploads/sites/61/2025/05/488658637_9654525797928550_5685141721219111312_n_horizontal.jpg
END:VEVENT
BEGIN:VEVENT
DTSTART;TZID=America/New_York:20260111T101500
DTEND;TZID=America/New_York:20260111T101500
DTSTAMP:20260425T220107
CREATED:20250527T001320Z
LAST-MODIFIED:20251204T200209Z
UID:10000145-1768126500-1768126500@trinitychurchtowson.org
SUMMARY:Holy Eucharist Rite II
DESCRIPTION:
URL:https://trinitychurchtowson.org/event/holy-eucharist-rite-ii/2026-01-11/
LOCATION:Trinity Episcopal Church\, 120 Allegheny Ave\, Towson\, MD\, 21204\, United States
CATEGORIES:featured
ATTACH;FMTTYPE=image/jpeg:https://trinitychurchtowson.org/wp-content/uploads/sites/61/2025/05/488658637_9654525797928550_5685141721219111312_n_horizontal.jpg
END:VEVENT
BEGIN:VEVENT
DTSTART;TZID=America/New_York:20260118T080000
DTEND;TZID=America/New_York:20260118T080000
DTSTAMP:20260425T220107
CREATED:20250527T001138Z
LAST-MODIFIED:20260108T171006Z
UID:10000038-1768723200-1768723200@trinitychurchtowson.org
SUMMARY:Holy Eucharist
DESCRIPTION:
URL:https://trinitychurchtowson.org/event/holy-eucharist/2026-01-18/
LOCATION:Trinity Episcopal Church\, 120 Allegheny Ave\, Towson\, MD\, 21204\, United States
CATEGORIES:featured
ATTACH;FMTTYPE=image/jpeg:https://trinitychurchtowson.org/wp-content/uploads/sites/61/2025/05/489159228_9656277787753351_2720397352512224019_n_transform.jpg
END:VEVENT
BEGIN:VEVENT
DTSTART;TZID=America/New_York:20260118T101500
DTEND;TZID=America/New_York:20260118T101500
DTSTAMP:20260425T220107
CREATED:20250527T001320Z
LAST-MODIFIED:20251204T200209Z
UID:10000146-1768731300-1768731300@trinitychurchtowson.org
SUMMARY:Holy Eucharist Rite II
DESCRIPTION:
URL:https://trinitychurchtowson.org/event/holy-eucharist-rite-ii/2026-01-18/
LOCATION:Trinity Episcopal Church\, 120 Allegheny Ave\, Towson\, MD\, 21204\, United States
CATEGORIES:featured
ATTACH;FMTTYPE=image/jpeg:https://trinitychurchtowson.org/wp-content/uploads/sites/61/2025/05/488658637_9654525797928550_5685141721219111312_n_horizontal.jpg
END:VEVENT
BEGIN:VEVENT
DTSTART;TZID=America/New_York:20260125T080000
DTEND;TZID=America/New_York:20260125T080000
DTSTAMP:20260425T220107
CREATED:20250527T001138Z
LAST-MODIFIED:20260108T171006Z
UID:10000039-1769328000-1769328000@trinitychurchtowson.org
SUMMARY:Holy Eucharist
DESCRIPTION:
URL:https://trinitychurchtowson.org/event/holy-eucharist/2026-01-25/
LOCATION:Trinity Episcopal Church\, 120 Allegheny Ave\, Towson\, MD\, 21204\, United States
CATEGORIES:featured
ATTACH;FMTTYPE=image/jpeg:https://trinitychurchtowson.org/wp-content/uploads/sites/61/2025/05/489159228_9656277787753351_2720397352512224019_n_transform.jpg
END:VEVENT
BEGIN:VEVENT
DTSTART;TZID=America/New_York:20260125T101500
DTEND;TZID=America/New_York:20260125T101500
DTSTAMP:20260425T220107
CREATED:20250527T001320Z
LAST-MODIFIED:20251204T200209Z
UID:10000147-1769336100-1769336100@trinitychurchtowson.org
SUMMARY:Holy Eucharist Rite II
DESCRIPTION:
URL:https://trinitychurchtowson.org/event/holy-eucharist-rite-ii/2026-01-25/
LOCATION:Trinity Episcopal Church\, 120 Allegheny Ave\, Towson\, MD\, 21204\, United States
CATEGORIES:featured
ATTACH;FMTTYPE=image/jpeg:https://trinitychurchtowson.org/wp-content/uploads/sites/61/2025/05/488658637_9654525797928550_5685141721219111312_n_horizontal.jpg
END:VEVENT
BEGIN:VEVENT
DTSTART;TZID=America/New_York:20260201T080000
DTEND;TZID=America/New_York:20260201T080000
DTSTAMP:20260425T220107
CREATED:20250527T001138Z
LAST-MODIFIED:20260108T171006Z
UID:10000040-1769932800-1769932800@trinitychurchtowson.org
SUMMARY:Holy Eucharist
DESCRIPTION:
URL:https://trinitychurchtowson.org/event/holy-eucharist/2026-02-01/
LOCATION:Trinity Episcopal Church\, 120 Allegheny Ave\, Towson\, MD\, 21204\, United States
CATEGORIES:featured
ATTACH;FMTTYPE=image/jpeg:https://trinitychurchtowson.org/wp-content/uploads/sites/61/2025/05/489159228_9656277787753351_2720397352512224019_n_transform.jpg
END:VEVENT
BEGIN:VEVENT
DTSTART;TZID=America/New_York:20260201T101500
DTEND;TZID=America/New_York:20260201T101500
DTSTAMP:20260425T220107
CREATED:20250527T001320Z
LAST-MODIFIED:20251204T200209Z
UID:10000148-1769940900-1769940900@trinitychurchtowson.org
SUMMARY:Holy Eucharist Rite II
DESCRIPTION:
URL:https://trinitychurchtowson.org/event/holy-eucharist-rite-ii/2026-02-01/
LOCATION:Trinity Episcopal Church\, 120 Allegheny Ave\, Towson\, MD\, 21204\, United States
CATEGORIES:featured
ATTACH;FMTTYPE=image/jpeg:https://trinitychurchtowson.org/wp-content/uploads/sites/61/2025/05/488658637_9654525797928550_5685141721219111312_n_horizontal.jpg
END:VEVENT
BEGIN:VEVENT
DTSTART;TZID=America/New_York:20260208T080000
DTEND;TZID=America/New_York:20260208T080000
DTSTAMP:20260425T220107
CREATED:20250527T001138Z
LAST-MODIFIED:20260108T171006Z
UID:10000041-1770537600-1770537600@trinitychurchtowson.org
SUMMARY:Holy Eucharist
DESCRIPTION:
URL:https://trinitychurchtowson.org/event/holy-eucharist/2026-02-08/
LOCATION:Trinity Episcopal Church\, 120 Allegheny Ave\, Towson\, MD\, 21204\, United States
CATEGORIES:featured
ATTACH;FMTTYPE=image/jpeg:https://trinitychurchtowson.org/wp-content/uploads/sites/61/2025/05/489159228_9656277787753351_2720397352512224019_n_transform.jpg
END:VEVENT
BEGIN:VEVENT
DTSTART;TZID=America/New_York:20260208T101500
DTEND;TZID=America/New_York:20260208T101500
DTSTAMP:20260425T220107
CREATED:20250527T001320Z
LAST-MODIFIED:20251204T200209Z
UID:10000149-1770545700-1770545700@trinitychurchtowson.org
SUMMARY:Holy Eucharist Rite II
DESCRIPTION:
URL:https://trinitychurchtowson.org/event/holy-eucharist-rite-ii/2026-02-08/
LOCATION:Trinity Episcopal Church\, 120 Allegheny Ave\, Towson\, MD\, 21204\, United States
CATEGORIES:featured
ATTACH;FMTTYPE=image/jpeg:https://trinitychurchtowson.org/wp-content/uploads/sites/61/2025/05/488658637_9654525797928550_5685141721219111312_n_horizontal.jpg
END:VEVENT
BEGIN:VEVENT
DTSTART;TZID=America/New_York:20260215T080000
DTEND;TZID=America/New_York:20260215T080000
DTSTAMP:20260425T220107
CREATED:20250527T001138Z
LAST-MODIFIED:20260108T171006Z
UID:10000042-1771142400-1771142400@trinitychurchtowson.org
SUMMARY:Holy Eucharist
DESCRIPTION:
URL:https://trinitychurchtowson.org/event/holy-eucharist/2026-02-15/
LOCATION:Trinity Episcopal Church\, 120 Allegheny Ave\, Towson\, MD\, 21204\, United States
CATEGORIES:featured
ATTACH;FMTTYPE=image/jpeg:https://trinitychurchtowson.org/wp-content/uploads/sites/61/2025/05/489159228_9656277787753351_2720397352512224019_n_transform.jpg
END:VEVENT
BEGIN:VEVENT
DTSTART;TZID=America/New_York:20260215T101500
DTEND;TZID=America/New_York:20260215T101500
DTSTAMP:20260425T220107
CREATED:20250527T001320Z
LAST-MODIFIED:20251204T200209Z
UID:10000150-1771150500-1771150500@trinitychurchtowson.org
SUMMARY:Holy Eucharist Rite II
DESCRIPTION:
URL:https://trinitychurchtowson.org/event/holy-eucharist-rite-ii/2026-02-15/
LOCATION:Trinity Episcopal Church\, 120 Allegheny Ave\, Towson\, MD\, 21204\, United States
CATEGORIES:featured
ATTACH;FMTTYPE=image/jpeg:https://trinitychurchtowson.org/wp-content/uploads/sites/61/2025/05/488658637_9654525797928550_5685141721219111312_n_horizontal.jpg
END:VEVENT
BEGIN:VEVENT
DTSTART;TZID=America/New_York:20260222T080000
DTEND;TZID=America/New_York:20260222T080000
DTSTAMP:20260425T220107
CREATED:20250527T001138Z
LAST-MODIFIED:20260108T171006Z
UID:10000043-1771747200-1771747200@trinitychurchtowson.org
SUMMARY:Holy Eucharist
DESCRIPTION:
URL:https://trinitychurchtowson.org/event/holy-eucharist/2026-02-22/
LOCATION:Trinity Episcopal Church\, 120 Allegheny Ave\, Towson\, MD\, 21204\, United States
CATEGORIES:featured
ATTACH;FMTTYPE=image/jpeg:https://trinitychurchtowson.org/wp-content/uploads/sites/61/2025/05/489159228_9656277787753351_2720397352512224019_n_transform.jpg
END:VEVENT
BEGIN:VEVENT
DTSTART;TZID=America/New_York:20260222T101500
DTEND;TZID=America/New_York:20260222T101500
DTSTAMP:20260425T220107
CREATED:20250527T001320Z
LAST-MODIFIED:20251204T200209Z
UID:10000151-1771755300-1771755300@trinitychurchtowson.org
SUMMARY:Holy Eucharist Rite II
DESCRIPTION:
URL:https://trinitychurchtowson.org/event/holy-eucharist-rite-ii/2026-02-22/
LOCATION:Trinity Episcopal Church\, 120 Allegheny Ave\, Towson\, MD\, 21204\, United States
CATEGORIES:featured
ATTACH;FMTTYPE=image/jpeg:https://trinitychurchtowson.org/wp-content/uploads/sites/61/2025/05/488658637_9654525797928550_5685141721219111312_n_horizontal.jpg
END:VEVENT
BEGIN:VEVENT
DTSTART;TZID=America/New_York:20260301T080000
DTEND;TZID=America/New_York:20260301T080000
DTSTAMP:20260425T220107
CREATED:20250527T001138Z
LAST-MODIFIED:20260108T171006Z
UID:10000044-1772352000-1772352000@trinitychurchtowson.org
SUMMARY:Holy Eucharist
DESCRIPTION:
URL:https://trinitychurchtowson.org/event/holy-eucharist/2026-03-01/
LOCATION:Trinity Episcopal Church\, 120 Allegheny Ave\, Towson\, MD\, 21204\, United States
CATEGORIES:featured
ATTACH;FMTTYPE=image/jpeg:https://trinitychurchtowson.org/wp-content/uploads/sites/61/2025/05/489159228_9656277787753351_2720397352512224019_n_transform.jpg
END:VEVENT
BEGIN:VEVENT
DTSTART;TZID=America/New_York:20260301T101500
DTEND;TZID=America/New_York:20260301T101500
DTSTAMP:20260425T220107
CREATED:20250527T001320Z
LAST-MODIFIED:20251204T200209Z
UID:10000152-1772360100-1772360100@trinitychurchtowson.org
SUMMARY:Holy Eucharist Rite II
DESCRIPTION:
URL:https://trinitychurchtowson.org/event/holy-eucharist-rite-ii/2026-03-01/
LOCATION:Trinity Episcopal Church\, 120 Allegheny Ave\, Towson\, MD\, 21204\, United States
CATEGORIES:featured
ATTACH;FMTTYPE=image/jpeg:https://trinitychurchtowson.org/wp-content/uploads/sites/61/2025/05/488658637_9654525797928550_5685141721219111312_n_horizontal.jpg
END:VEVENT
BEGIN:VEVENT
DTSTART;TZID=America/New_York:20260308T080000
DTEND;TZID=America/New_York:20260308T080000
DTSTAMP:20260425T220107
CREATED:20250527T001138Z
LAST-MODIFIED:20260108T171006Z
UID:10000045-1772956800-1772956800@trinitychurchtowson.org
SUMMARY:Holy Eucharist
DESCRIPTION:
URL:https://trinitychurchtowson.org/event/holy-eucharist/2026-03-08/
LOCATION:Trinity Episcopal Church\, 120 Allegheny Ave\, Towson\, MD\, 21204\, United States
CATEGORIES:featured
ATTACH;FMTTYPE=image/jpeg:https://trinitychurchtowson.org/wp-content/uploads/sites/61/2025/05/489159228_9656277787753351_2720397352512224019_n_transform.jpg
END:VEVENT
BEGIN:VEVENT
DTSTART;TZID=America/New_York:20260308T101500
DTEND;TZID=America/New_York:20260308T101500
DTSTAMP:20260425T220107
CREATED:20250527T001320Z
LAST-MODIFIED:20251204T200209Z
UID:10000153-1772964900-1772964900@trinitychurchtowson.org
SUMMARY:Holy Eucharist Rite II
DESCRIPTION:
URL:https://trinitychurchtowson.org/event/holy-eucharist-rite-ii/2026-03-08/
LOCATION:Trinity Episcopal Church\, 120 Allegheny Ave\, Towson\, MD\, 21204\, United States
CATEGORIES:featured
ATTACH;FMTTYPE=image/jpeg:https://trinitychurchtowson.org/wp-content/uploads/sites/61/2025/05/488658637_9654525797928550_5685141721219111312_n_horizontal.jpg
END:VEVENT
BEGIN:VEVENT
DTSTART;TZID=America/New_York:20260315T080000
DTEND;TZID=America/New_York:20260315T080000
DTSTAMP:20260425T220107
CREATED:20250527T001138Z
LAST-MODIFIED:20260108T171006Z
UID:10000046-1773561600-1773561600@trinitychurchtowson.org
SUMMARY:Holy Eucharist
DESCRIPTION:
URL:https://trinitychurchtowson.org/event/holy-eucharist/2026-03-15/
LOCATION:Trinity Episcopal Church\, 120 Allegheny Ave\, Towson\, MD\, 21204\, United States
CATEGORIES:featured
ATTACH;FMTTYPE=image/jpeg:https://trinitychurchtowson.org/wp-content/uploads/sites/61/2025/05/489159228_9656277787753351_2720397352512224019_n_transform.jpg
END:VEVENT
BEGIN:VEVENT
DTSTART;TZID=America/New_York:20260315T101500
DTEND;TZID=America/New_York:20260315T101500
DTSTAMP:20260425T220107
CREATED:20250527T001320Z
LAST-MODIFIED:20251204T200209Z
UID:10000154-1773569700-1773569700@trinitychurchtowson.org
SUMMARY:Holy Eucharist Rite II
DESCRIPTION:
URL:https://trinitychurchtowson.org/event/holy-eucharist-rite-ii/2026-03-15/
LOCATION:Trinity Episcopal Church\, 120 Allegheny Ave\, Towson\, MD\, 21204\, United States
CATEGORIES:featured
ATTACH;FMTTYPE=image/jpeg:https://trinitychurchtowson.org/wp-content/uploads/sites/61/2025/05/488658637_9654525797928550_5685141721219111312_n_horizontal.jpg
END:VEVENT
BEGIN:VEVENT
DTSTART;TZID=America/New_York:20260322T080000
DTEND;TZID=America/New_York:20260322T080000
DTSTAMP:20260425T220107
CREATED:20250527T001138Z
LAST-MODIFIED:20260108T171006Z
UID:10000047-1774166400-1774166400@trinitychurchtowson.org
SUMMARY:Holy Eucharist
DESCRIPTION:
URL:https://trinitychurchtowson.org/event/holy-eucharist/2026-03-22/
LOCATION:Trinity Episcopal Church\, 120 Allegheny Ave\, Towson\, MD\, 21204\, United States
CATEGORIES:featured
ATTACH;FMTTYPE=image/jpeg:https://trinitychurchtowson.org/wp-content/uploads/sites/61/2025/05/489159228_9656277787753351_2720397352512224019_n_transform.jpg
END:VEVENT
BEGIN:VEVENT
DTSTART;TZID=America/New_York:20260322T101500
DTEND;TZID=America/New_York:20260322T101500
DTSTAMP:20260425T220107
CREATED:20250527T001320Z
LAST-MODIFIED:20251204T200209Z
UID:10000155-1774174500-1774174500@trinitychurchtowson.org
SUMMARY:Holy Eucharist Rite II
DESCRIPTION:
URL:https://trinitychurchtowson.org/event/holy-eucharist-rite-ii/2026-03-22/
LOCATION:Trinity Episcopal Church\, 120 Allegheny Ave\, Towson\, MD\, 21204\, United States
CATEGORIES:featured
ATTACH;FMTTYPE=image/jpeg:https://trinitychurchtowson.org/wp-content/uploads/sites/61/2025/05/488658637_9654525797928550_5685141721219111312_n_horizontal.jpg
END:VEVENT
BEGIN:VEVENT
DTSTART;TZID=America/New_York:20260329T080000
DTEND;TZID=America/New_York:20260329T080000
DTSTAMP:20260425T220107
CREATED:20250527T001138Z
LAST-MODIFIED:20260108T171006Z
UID:10000048-1774771200-1774771200@trinitychurchtowson.org
SUMMARY:Holy Eucharist
DESCRIPTION:
URL:https://trinitychurchtowson.org/event/holy-eucharist/2026-03-29/
LOCATION:Trinity Episcopal Church\, 120 Allegheny Ave\, Towson\, MD\, 21204\, United States
CATEGORIES:featured
ATTACH;FMTTYPE=image/jpeg:https://trinitychurchtowson.org/wp-content/uploads/sites/61/2025/05/489159228_9656277787753351_2720397352512224019_n_transform.jpg
END:VEVENT
BEGIN:VEVENT
DTSTART;TZID=America/New_York:20260329T101500
DTEND;TZID=America/New_York:20260329T101500
DTSTAMP:20260425T220107
CREATED:20250527T001320Z
LAST-MODIFIED:20251204T200209Z
UID:10000156-1774779300-1774779300@trinitychurchtowson.org
SUMMARY:Holy Eucharist Rite II
DESCRIPTION:
URL:https://trinitychurchtowson.org/event/holy-eucharist-rite-ii/2026-03-29/
LOCATION:Trinity Episcopal Church\, 120 Allegheny Ave\, Towson\, MD\, 21204\, United States
CATEGORIES:featured
ATTACH;FMTTYPE=image/jpeg:https://trinitychurchtowson.org/wp-content/uploads/sites/61/2025/05/488658637_9654525797928550_5685141721219111312_n_horizontal.jpg
END:VEVENT
BEGIN:VEVENT
DTSTART;TZID=America/New_York:20260401T190000
DTEND;TZID=America/New_York:20260401T200000
DTSTAMP:20260425T220107
CREATED:20260330T202552Z
LAST-MODIFIED:20260331T185008Z
UID:10000764-1775070000-1775073600@trinitychurchtowson.org
SUMMARY:Tenebrae
DESCRIPTION:In Lee Chapel
URL:https://trinitychurchtowson.org/event/tenebrae/
LOCATION:Trinity Episcopal Church\, 120 Allegheny Ave\, Towson\, MD\, 21204\, United States
CATEGORIES:featured
ATTACH;FMTTYPE=image/jpeg:https://trinitychurchtowson.org/wp-content/uploads/sites/61/2026/03/josh-applegate-lTrxAm3Zng8-unsplash-scaled.jpg
END:VEVENT
BEGIN:VEVENT
DTSTART;TZID=America/New_York:20260402T180000
DTEND;TZID=America/New_York:20260402T190000
DTSTAMP:20260425T220107
CREATED:20260330T203806Z
LAST-MODIFIED:20260331T185045Z
UID:10000765-1775152800-1775156400@trinitychurchtowson.org
SUMMARY:Agape Dinner
DESCRIPTION:In Memorial Hall
URL:https://trinitychurchtowson.org/event/agape-dinner/
LOCATION:Trinity Episcopal Church\, 120 Allegheny Ave\, Towson\, MD\, 21204\, United States
CATEGORIES:featured
ATTACH;FMTTYPE=image/jpeg:https://trinitychurchtowson.org/wp-content/uploads/sites/61/2025/09/Trinity-website-26-scaled.jpg
END:VEVENT
BEGIN:VEVENT
DTSTART;TZID=America/New_York:20260402T191500
DTEND;TZID=America/New_York:20260402T203000
DTSTAMP:20260425T220107
CREATED:20260330T203931Z
LAST-MODIFIED:20260331T185156Z
UID:10000766-1775157300-1775161800@trinitychurchtowson.org
SUMMARY:Maundy Thursday Eucharist
DESCRIPTION:In the Nave (Main Sanctuary)
URL:https://trinitychurchtowson.org/event/maundy-thursday-eucharist/
LOCATION:Trinity Episcopal Church\, 120 Allegheny Ave\, Towson\, MD\, 21204\, United States
CATEGORIES:featured
ATTACH;FMTTYPE=image/jpeg:https://trinitychurchtowson.org/wp-content/uploads/sites/61/2025/09/Trinity-website-40.jpg
END:VEVENT
END:VCALENDAR